BEGIN:VCALENDAR
VERSION:2.0
PRODID:-//pretix//pretix.eu//
BEGIN:VTIMEZONE
TZID:Europe/Berlin
BEGIN:STANDARD
DTSTART:20001029T040000
RRULE:FREQ=YEARLY;BYDAY=-1SU;BYMONTH=10
TZNAME:CET
TZOFFSETFROM:+0200
TZOFFSETTO:+0100
END:STANDARD
BEGIN:DAYLIGHT
DTSTART:20000326T030000
RRULE:FREQ=YEARLY;BYDAY=-1SU;BYMONTH=3
TZNAME:CEST
TZOFFSETFROM:+0100
TZOFFSETTO:+0200
END:DAYLIGHT
END:VTIMEZONE
BEGIN:VEVENT
UID:pretix-spvgg-schleissheim-fu-schnuppertraining-4809992@spvgg-schleisshe
 im.vereinsticket.de
DTSTART;TZID=Europe/Berlin:20260208T150000
DTEND;TZID=Europe/Berlin:20260208T160000
DESCRIPTION:Tickets: https://spvgg-schleissheim.vereinsticket.de/fu-schnupp
 ertraining/4809992/\nEinlass: 08.02.2026 14:50\nVeranstalter: Spielvereini
 gung Schleissheim e.V.
DTSTAMP:20260420T025049Z
LOCATION:Sporthalle\, Hans-Carossa-Straße 2\, 85716 Unterschleißheim
SUMMARY:Hallen Training
END:VEVENT
END:VCALENDAR
