BEGIN:VCALENDAR
VERSION:2.0
PRODID:-//pretix//pretix.eu//
BEGIN:VTIMEZONE
TZID:Europe/Berlin
BEGIN:STANDARD
DTSTART:20001029T040000
RRULE:FREQ=YEARLY;BYDAY=-1SU;BYMONTH=10
TZNAME:CET
TZOFFSETFROM:+0200
TZOFFSETTO:+0100
END:STANDARD
BEGIN:DAYLIGHT
DTSTART:20000326T030000
RRULE:FREQ=YEARLY;BYDAY=-1SU;BYMONTH=3
TZNAME:CEST
TZOFFSETFROM:+0100
TZOFFSETTO:+0200
END:DAYLIGHT
END:VTIMEZONE
BEGIN:VEVENT
UID:pretix-spvgg-schleissheim-fu-schnuppertraining-4634929@spvgg-schleisshe
 im.vereinsticket.de
DTSTART;TZID=Europe/Berlin:20250727T150000
DTEND;TZID=Europe/Berlin:20250727T160000
DESCRIPTION:Tickets: https://spvgg-schleissheim.vereinsticket.de/fu-schnupp
 ertraining/4634929/\nEinlass: 27.07.2025 14:30\nVeranstalter: Spielvereini
 gung Schleissheim e.V.
DTSTAMP:20260420T155101Z
LOCATION:Jugend Sport Anlage\, Hartmut-Hermann-Weg\, 85716 Unterschleißhei
 m
SUMMARY:Schnuppertraining Jahrgang. 2021/2022
END:VEVENT
END:VCALENDAR
