BEGIN:VCALENDAR
VERSION:2.0
PRODID:-//pretix//pretix.eu//
BEGIN:VTIMEZONE
TZID:Europe/Berlin
BEGIN:STANDARD
DTSTART:20001029T040000
RRULE:FREQ=YEARLY;BYDAY=-1SU;BYMONTH=10
TZNAME:CET
TZOFFSETFROM:+0200
TZOFFSETTO:+0100
END:STANDARD
BEGIN:DAYLIGHT
DTSTART:20000326T030000
RRULE:FREQ=YEARLY;BYDAY=-1SU;BYMONTH=3
TZNAME:CEST
TZOFFSETFROM:+0100
TZOFFSETTO:+0200
END:DAYLIGHT
END:VTIMEZONE
BEGIN:VEVENT
UID:pretix-spvgg-schleissheim-fu-schnuppertraining-4916312@spvgg-schleisshe
 im.vereinsticket.de
DTSTART;TZID=Europe/Berlin:20260419T140000
DTEND;TZID=Europe/Berlin:20260419T144500
DESCRIPTION:Tickets: https://spvgg-schleissheim.vereinsticket.de/fu-schnupp
 ertraining/4916312/\nEinlass: 19.04.2026 13:45\nVeranstalter: Spielvereini
 gung Schleissheim e.V.
DTSTAMP:20260419T214037Z
LOCATION:Jugend Sport Anlage\, Platz 1/1\, Hartmut-Hermann-Weg\, 85716 Unte
 rschleißheim
SUMMARY:Kindergarten Kickers U5/Schnuppertraining
END:VEVENT
BEGIN:VEVENT
UID:pretix-spvgg-schleissheim-fu-schnuppertraining-4916313@spvgg-schleisshe
 im.vereinsticket.de
DTSTART;TZID=Europe/Berlin:20260419T150000
DTEND;TZID=Europe/Berlin:20260419T160000
DESCRIPTION:Tickets: https://spvgg-schleissheim.vereinsticket.de/fu-schnupp
 ertraining/4916313/\nEinlass: 19.04.2026 14:45\nVeranstalter: Spielvereini
 gung Schleissheim e.V.
DTSTAMP:20260419T214037Z
LOCATION:Jugend Sport Anlage\, Platz 1/1\, Hartmut-Hermann-Weg\, 85716 Unte
 rschleißheim
SUMMARY:G  + F- Jugend U7 + U9/Schnuppertraining
END:VEVENT
BEGIN:VEVENT
UID:pretix-spvgg-schleissheim-fu-schnuppertraining-4916341@spvgg-schleisshe
 im.vereinsticket.de
DTSTART;TZID=Europe/Berlin:20260426T140000
DTEND;TZID=Europe/Berlin:20260426T144500
DESCRIPTION:Tickets: https://spvgg-schleissheim.vereinsticket.de/fu-schnupp
 ertraining/4916341/\nEinlass: 26.04.2026 13:45\nVeranstalter: Spielvereini
 gung Schleissheim e.V.
DTSTAMP:20260419T214037Z
LOCATION:Jugend Sport Anlage\, Platz 1/1\, Hartmut-Hermann-Weg\, 85716 Unte
 rschleißheim
SUMMARY:Kindergarten Kickers U5/Schnuppertraining
END:VEVENT
BEGIN:VEVENT
UID:pretix-spvgg-schleissheim-fu-schnuppertraining-4916354@spvgg-schleisshe
 im.vereinsticket.de
DTSTART;TZID=Europe/Berlin:20260426T150000
DTEND;TZID=Europe/Berlin:20260426T160000
DESCRIPTION:Tickets: https://spvgg-schleissheim.vereinsticket.de/fu-schnupp
 ertraining/4916354/\nEinlass: 26.04.2026 14:45\nVeranstalter: Spielvereini
 gung Schleissheim e.V.
DTSTAMP:20260419T214037Z
LOCATION:Jugend Sport Anlage\, Platz 1\, Hartmut-Hermann-Weg\, 85716 Unters
 chleißheim
SUMMARY:G + F- Jugend U7+U9/Schnuppertraining
END:VEVENT
END:VCALENDAR
